BEGIN:VCALENDAR
VERSION:2.0
PRODID:-//Season To Soar | Non-Profit Organization - ECPv6.15.17.1//NONSGML v1.0//EN
CALSCALE:GREGORIAN
METHOD:PUBLISH
X-WR-CALNAME:Season To Soar | Non-Profit Organization
X-ORIGINAL-URL:https://www.seasontosoar.com
X-WR-CALDESC:Events for Season To Soar | Non-Profit Organization
REFRESH-INTERVAL;VALUE=DURATION:PT1H
X-Robots-Tag:noindex
X-PUBLISHED-TTL:PT1H
BEGIN:VTIMEZONE
TZID:UTC
BEGIN:STANDARD
TZOFFSETFROM:+0000
TZOFFSETTO:+0000
TZNAME:UTC
DTSTART:20180101T000000
END:STANDARD
END:VTIMEZONE
BEGIN:VEVENT
DTSTART;TZID=UTC:20190608T100000
DTEND;TZID=UTC:20190608T130000
DTSTAMP:20260425T231921
CREATED:20190517T045806Z
LAST-MODIFIED:20190517T050049Z
UID:362-1559988000-1559998800@www.seasontosoar.com
SUMMARY:End of Year Ice Cream Social
DESCRIPTION:Workshops\, games\, and an afternoon of fun for the whole family! Make sure to stop by.
URL:https://www.seasontosoar.com/event/end-of-year-ice-cream-social/
LOCATION:Beasley Elementary\, 5255 S State Street\, Chicago\, IL\, 60609\, United States
CATEGORIES:Community Program
END:VEVENT
END:VCALENDAR